BEGIN:VCALENDAR
VERSION:2.0
PRODID:-//ChamberMaster//Event Calendar 2.0//EN
METHOD:PUBLISH
X-PUBLISHED-TTL:P1H
REFRESH-INTERVAL:P1H
CALSCALE:GREGORIAN
BEGIN:VTIMEZONE
TZID:America/New_York
BEGIN:DAYLIGHT
RRULE:FREQ=YEARLY;BYMONTH=3;BYDAY=2SU
DTSTART:20070101T000000
TZOFFSETFROM:-0500
TZOFFSETTO:-0400
TZNAME:Eastern Daylight Time
END:DAYLIGHT
BEGIN:STANDARD
RRULE:FREQ=YEARLY;BYMONTH=11;BYDAY=1SU
DTSTART:20070101T000000
TZOFFSETFROM:-0400
TZOFFSETTO:-0500
TZNAME:Eastern Standard Time
END:STANDARD
END:VTIMEZONE
BEGIN:VEVENT
DTSTART;TZID=America/New_York:20260429T100000
DTEND;TZID=America/New_York:20260429T110000
X-MICROSOFT-CDO-ALLDAYEVENT:FALSE
SUMMARY:2026 Q2 Leadership Poll Results Webinar
DESCRIPTION:NC TECH will poll roughly 400 leaders in the state's tech sector during the last month of each quarter (comprised of the NC TECH Board of Directors\, Board of Advisors\, Tech CEOs\, and site leaders of major non-headquartered tech hubs). A live web briefing on the results will be held shortly after each poll is conducted. Polls will be archived on the NC TECH Pulse page.This polling is made possible through the support of Stearns Financial.  Dennis Stearns\, the firm's founder\, will join NC TECH CEO Brooks Raiford during these live briefings to discuss the results and trends.
X-ALT-DESC;FMTTYPE=text/html:<!DOCTYPE html><html><head><title></title></head><body aria-disabled="false"><p><span style="box-sizing: border-box\; border: 0px\; font-style: inherit\; font-variant: inherit\; font-weight: inherit\; font-stretch: inherit\; line-height: inherit\; font-family: Calibri Light\, serif\; font-size: 18px\; margin: 0px\; padding: 0px\; vertical-align: baseline\;">NC TECH will poll roughly 400 leaders in the state&#39\;s tech sector during the last month of each quarter (comprised of the NC TECH Board of Directors\, Board of Advisors\, Tech CEOs\, and site leaders of major non-headquartered tech hubs). A live web briefing on the results will be held shortly after each poll is conducted. Polls will be archived on the NC TECH Pulse page.</span></p><p><span style="box-sizing: border-box\; border: 0px\; font-style: inherit\; font-variant: inherit\; font-weight: inherit\; font-stretch: inherit\; line-height: inherit\; font-family: Calibri Light\, serif\; font-size: 18px\; margin: 0px\; padding: 0px\; vertical-align: baseline\;">This polling is made possible through the support of Stearns Financial. &nbsp\;Dennis Stearns\, the firm&#39\;s founder\, will join NC TECH CEO Brooks Raiford during these live briefings to discuss the results and trends.</span></p></body></html>
LOCATION:
UID:e.1456.1437170
SEQUENCE:3
DTSTAMP:20260422T155019Z
URL:https://ourmembers.nctech.org/events/Details/2026-q2-leadership-poll-results-webinar-1701126?sourceTypeId=Hub
END:VEVENT
END:VCALENDAR
