BEGIN:VCALENDAR
VERSION:2.0
PRODID:-//ChamberMaster//Event Calendar 2.0//EN
METHOD:PUBLISH
X-PUBLISHED-TTL:P1H
REFRESH-INTERVAL:P1H
CALSCALE:GREGORIAN
BEGIN:VTIMEZONE
TZID:America/New_York
BEGIN:DAYLIGHT
RRULE:FREQ=YEARLY;BYMONTH=3;BYDAY=2SU
DTSTART:20070101T000000
TZOFFSETFROM:-0500
TZOFFSETTO:-0400
TZNAME:Eastern Daylight Time
END:DAYLIGHT
BEGIN:STANDARD
RRULE:FREQ=YEARLY;BYMONTH=11;BYDAY=1SU
DTSTART:20070101T000000
TZOFFSETFROM:-0400
TZOFFSETTO:-0500
TZNAME:Eastern Standard Time
END:STANDARD
END:VTIMEZONE
BEGIN:VEVENT
DTSTART;TZID=America/New_York:20260519T150000
DTEND;TZID=America/New_York:20260519T160000
X-MICROSOFT-CDO-ALLDAYEVENT:FALSE
SUMMARY:Meet the Employer Webinar (Spring 2026) - MetLife
DESCRIPTION:Join Tamar Shapiro\, Chief Data and Analytics Officer with MetLife\, along with other technology leaders as they highlight the Global Technology Hub in Cary\, NC. The speakers will share insights into their culture\, technology teams\, career paths\, and open roles. You'll also hear directly from an early career team member about their experiences\, professional development opportunities\, and what it's really like to work there. MetLife has recently opened several roles targeted to recent graduates and those with under 4 years of experience.SpeakersTamar Shapirohttps://www.linkedin.com/in/tamarshapiro/Chief Data and Analytics Officer Minoo Agarwalhttps://www.linkedin.com/in/minoo-agarwal/CDO\, Corporate Functions
X-ALT-DESC;FMTTYPE=text/html:<!DOCTYPE html><html><head><title></title></head><body aria-disabled="false"><p><span data-olk-copy-source="MessageBody" style="font-size: 12pt\; font-family: Aptos\, sans-serif\; margin: 0px\;">Join Tamar Shapiro\, Chief Data and Analytics Officer with MetLife\, along with other technology leaders as they highlight the Global Technology Hub in Cary\, NC. The speakers will share insights into their culture\, technology teams\, career paths\, and open roles. You&rsquo\;ll also hear directly from an early career team member about their experiences\, professional development opportunities\, and what it&rsquo\;s really like to work there. MetLife has recently opened several roles targeted to recent graduates and those with under 4 years of experience.</span></p><p data-olk-copy-source="MessageBody" style="color: rgb(0\, 0\, 0)\; font-style: normal\; font-variant-ligatures: normal\; font-variant-caps: normal\; font-weight: 400\; letter-spacing: normal\; orphans: 2\; text-align: start\; text-indent: 0px\; text-transform: none\; widows: 2\; word-spacing: 0px\; -webkit-text-stroke-width: 0px\; white-space: normal\; background-color: rgb(255\, 255\, 255)\; text-decoration-thickness: initial\; text-decoration-style: initial\; text-decoration-color: initial\; font-size: 12pt\; font-family: Aptos\, sans-serif\; margin: 0px\;">Speakers</p><p style="color: rgb(0\, 0\, 0)\; font-style: normal\; font-variant-ligatures: normal\; font-variant-caps: normal\; font-weight: 400\; letter-spacing: normal\; orphans: 2\; text-align: start\; text-indent: 0px\; text-transform: none\; widows: 2\; word-spacing: 0px\; -webkit-text-stroke-width: 0px\; white-space: normal\; background-color: rgb(255\, 255\, 255)\; text-decoration-thickness: initial\; text-decoration-style: initial\; text-decoration-color: initial\; font-size: 12pt\; font-family: Aptos\, sans-serif\; margin: 0px\;">Tamar Shapiro</p><p style="color: rgb(0\, 0\, 0)\; font-style: normal\; font-variant-ligatures: normal\; font-variant-caps: normal\; font-weight: 400\; letter-spacing: normal\; orphans: 2\; text-align: start\; text-indent: 0px\; text-transform: none\; widows: 2\; word-spacing: 0px\; -webkit-text-stroke-width: 0px\; white-space: normal\; background-color: rgb(255\, 255\, 255)\; text-decoration-thickness: initial\; text-decoration-style: initial\; text-decoration-color: initial\; font-size: 12pt\; font-family: Aptos\, sans-serif\; margin: 0px\;"><a data-auth="NotApplicable" data-linkindex="0" data-ogsc="" fr-original-style="border: 0px\; font: inherit\; margin: 0px\; padding: 0px\; vertical-align: baseline\;" href="https://www.linkedin.com/in/tamarshapiro/" style="border: 0px\; font: inherit\; margin: 0px\; padding: 0px\; vertical-align: baseline\; user-select: auto\;" title="https://www.linkedin.com/in/tamarshapiro/">https://www.linkedin.com/in/tamarshapiro/</a></p><p style="color: rgb(0\, 0\, 0)\; font-style: normal\; font-variant-ligatures: normal\; font-variant-caps: normal\; font-weight: 400\; letter-spacing: normal\; orphans: 2\; text-align: start\; text-indent: 0px\; text-transform: none\; widows: 2\; word-spacing: 0px\; -webkit-text-stroke-width: 0px\; white-space: normal\; background-color: rgb(255\, 255\, 255)\; text-decoration-thickness: initial\; text-decoration-style: initial\; text-decoration-color: initial\; font-size: 12pt\; font-family: Aptos\, sans-serif\; margin: 0px\;">Chief Data and Analytics Officer</p><p aria-hidden="true" style="color: rgb(0\, 0\, 0)\; font-style: normal\; font-variant-ligatures: normal\; font-variant-caps: normal\; font-weight: 400\; letter-spacing: normal\; orphans: 2\; text-align: start\; text-indent: 0px\; text-transform: none\; widows: 2\; word-spacing: 0px\; -webkit-text-stroke-width: 0px\; white-space: normal\; background-color: rgb(255\, 255\, 255)\; text-decoration-thickness: initial\; text-decoration-style: initial\; text-decoration-color: initial\; font-size: 12pt\; font-family: Aptos\, sans-serif\; margin: 0px\;">&nbsp\;</p><p style="color: rgb(0\, 0\, 0)\; font-style: normal\; font-variant-ligatures: normal\; font-variant-caps: normal\; font-weight: 400\; letter-spacing: normal\; orphans: 2\; text-align: start\; text-indent: 0px\; text-transform: none\; widows: 2\; word-spacing: 0px\; -webkit-text-stroke-width: 0px\; white-space: normal\; background-color: rgb(255\, 255\, 255)\; text-decoration-thickness: initial\; text-decoration-style: initial\; text-decoration-color: initial\; font-size: 12pt\; font-family: Aptos\, sans-serif\; margin: 0px\;">Minoo Agarwal</p><p style="color: rgb(0\, 0\, 0)\; font-style: normal\; font-variant-ligatures: normal\; font-variant-caps: normal\; font-weight: 400\; letter-spacing: normal\; orphans: 2\; text-align: start\; text-indent: 0px\; text-transform: none\; widows: 2\; word-spacing: 0px\; -webkit-text-stroke-width: 0px\; white-space: normal\; background-color: rgb(255\, 255\, 255)\; text-decoration-thickness: initial\; text-decoration-style: initial\; text-decoration-color: initial\; font-size: 12pt\; font-family: Aptos\, sans-serif\; margin: 0px\;"><a data-auth="NotApplicable" data-linkindex="1" data-ogsc="" fr-original-style="border: 0px\; font: inherit\; margin: 0px\; padding: 0px\; vertical-align: baseline\;" href="https://www.linkedin.com/in/minoo-agarwal/" style="border: 0px\; font: inherit\; margin: 0px\; padding: 0px\; vertical-align: baseline\; user-select: auto\;" title="https://www.linkedin.com/in/minoo-agarwal/">https://www.linkedin.com/in/minoo-agarwal/</a></p><p style="color: rgb(0\, 0\, 0)\; font-style: normal\; font-variant-ligatures: normal\; font-variant-caps: normal\; font-weight: 400\; letter-spacing: normal\; orphans: 2\; text-align: start\; text-indent: 0px\; text-transform: none\; widows: 2\; word-spacing: 0px\; -webkit-text-stroke-width: 0px\; white-space: normal\; background-color: rgb(255\, 255\, 255)\; text-decoration-thickness: initial\; text-decoration-style: initial\; text-decoration-color: initial\; font-size: 12pt\; font-family: Aptos\, sans-serif\; margin: 0px\;">CDO\, Corporate Functions</p></body></html>
LOCATION:
UID:e.1456.1445576
SEQUENCE:3
DTSTAMP:20260424T234734Z
URL:https://ourmembers.nctech.org/events/Details/meet-the-employer-webinar-spring-2026-metlife-1712192?sourceTypeId=Hub
END:VEVENT
END:VCALENDAR
