BEGIN:VCALENDAR
VERSION:2.0
PRODID:-//ChamberMaster//Event Calendar 2.0//EN
METHOD:PUBLISH
X-PUBLISHED-TTL:P1H
REFRESH-INTERVAL:P1H
CALSCALE:GREGORIAN
BEGIN:VTIMEZONE
TZID:America/New_York
BEGIN:DAYLIGHT
RRULE:FREQ=YEARLY;BYMONTH=3;BYDAY=2SU
DTSTART:20070101T000000
TZOFFSETFROM:-0500
TZOFFSETTO:-0400
TZNAME:Eastern Daylight Time
END:DAYLIGHT
BEGIN:STANDARD
RRULE:FREQ=YEARLY;BYMONTH=11;BYDAY=1SU
DTSTART:20070101T000000
TZOFFSETFROM:-0400
TZOFFSETTO:-0500
TZNAME:Eastern Standard Time
END:STANDARD
END:VTIMEZONE
BEGIN:VEVENT
DTSTART;TZID=America/New_York:20260604T170000
DTEND;TZID=America/New_York:20260604T190000
X-MICROSOFT-CDO-ALLDAYEVENT:FALSE
SUMMARY:YTPN: Spring Networking Hour @ Drive Shack
DESCRIPTION:NC TECH's Young Tech Professionals Network is taking networking to Drive Shack. No golf skills required just join us for open bays\, easy conversation\, and a great opportunity to connect with fellow Triangle tech professionals.This event is for members of the Young Tech Professional Network - reach out to Ben Tramontana with any questions.
X-ALT-DESC;FMTTYPE=text/html:<!DOCTYPE html><html><head><title></title></head><body aria-disabled="false"><section data-scroll-anchor="true" data-testid="conversation-turn-6" data-turn="assistant" data-turn-id="request-WEB:6905dc87-8986-40e1-a9d1-f5bc23fee4f5-4" dir="auto" style="-webkit-font-smoothing: subpixel-antialiased\; box-sizing: border-box\; margin: 0px\; padding: 0px\; border: 0px\; font-size: 16px\; font-family: Montserrat\, sans-serif\; vertical-align: baseline\; display: block\; color: rgb(0\, 0\, 0)\; font-style: normal\; font-variant-ligatures: normal\; font-variant-caps: normal\; font-weight: 400\; letter-spacing: normal\; orphans: 2\; text-align: start\; text-indent: 0px\; text-transform: none\; widows: 2\; word-spacing: 0px\; -webkit-text-stroke-width: 0px\; white-space: normal\; text-decoration-thickness: initial\; text-decoration-style: initial\; text-decoration-color: initial\;"><div style="-webkit-font-smoothing: subpixel-antialiased\; box-sizing: border-box\; margin: 0px\; padding: 0px\; border: 0px\; font-size: 16px\; font-family: inherit\; vertical-align: baseline\;"><div style="-webkit-font-smoothing: subpixel-antialiased\; box-sizing: border-box\; margin: 0px\; padding: 0px\; border: 0px\; font-size: 16px\; font-family: inherit\; vertical-align: baseline\;"><div style="-webkit-font-smoothing: subpixel-antialiased\; box-sizing: border-box\; margin: 0px\; padding: 0px\; border: 0px\; font-size: 16px\; font-family: inherit\; vertical-align: baseline\;"><div data-message-author-role="assistant" data-message-id="256c3b35-dbfa-4558-bd9e-f208a4421f75" data-message-model-slug="gpt-5-3" data-turn-start-message="true" dir="auto" style="-webkit-font-smoothing: subpixel-antialiased\; box-sizing: border-box\; margin: 0px\; padding: 0px\; border: 0px\; font-size: 16px\; font-family: inherit\; vertical-align: baseline\;" tabindex="0"><div style="-webkit-font-smoothing: subpixel-antialiased\; box-sizing: border-box\; margin: 0px\; padding: 0px\; border: 0px\; font-size: 16px\; font-family: inherit\; vertical-align: baseline\;"><div style="-webkit-font-smoothing: subpixel-antialiased\; box-sizing: border-box\; margin: 0px\; padding: 0px\; border: 0px\; font-size: 16px\; font-family: inherit\; vertical-align: baseline\;"><p data-end="81" data-start="0" style="-webkit-font-smoothing: subpixel-antialiased\; box-sizing: border-box\; margin: 0px 0px 20px\; padding: 0px\; border: 0px\; font-size: 16px\; font-family: inherit\; vertical-align: baseline\; overflow-wrap: break-word\; font-weight: 400\; color: inherit\;">NC TECH&rsquo\;s Young Tech Professionals Network is taking networking to Drive Shack. No golf skills required&mdash\;just join us for open bays\, easy conversation\, and a great opportunity to connect with fellow Triangle tech professionals.</p></div></div></div></div></div></div></section><p style="-webkit-font-smoothing: subpixel-antialiased\; box-sizing: border-box\; margin: 0px 0px 20px\; padding: 0px\; border: 0px\; font-size: 16px\; font-family: Montserrat\, sans-serif\; vertical-align: baseline\; overflow-wrap: break-word\; font-weight: 400\; color: rgb(0\, 0\, 0)\; font-style: normal\; font-variant-ligatures: normal\; font-variant-caps: normal\; letter-spacing: normal\; orphans: 2\; text-align: start\; text-indent: 0px\; text-transform: none\; widows: 2\; word-spacing: 0px\; -webkit-text-stroke-width: 0px\; white-space: normal\; text-decoration-thickness: initial\; text-decoration-style: initial\; text-decoration-color: initial\;">This event is for members of the&nbsp\;<a fr-original-style="-webkit-font-smoothing: subpixel-antialiased\; box-sizing: border-box\; margin: 0px\; padding: 0px\; border: 0px\; font-size: 16px\; font-family: inherit\; vertical-align: baseline\; color: inherit\; font-weight: 600\; transition: all 0.25s ease-out\; display: inline-block\;" href="https://www.nctech.org/membership/young-tech-professionals.html" rel="noopener" style="-webkit-font-smoothing: subpixel-antialiased\; box-sizing: border-box\; margin: 0px\; padding: 0px\; border: 0px\; font-size: 16px\; font-family: inherit\; vertical-align: baseline\; color: inherit\; font-weight: 600\; transition: 0.25s ease-out\; display: inline-block\; user-select: auto\;" target="_blank">Young Tech Professional Network</a> - reach out to&nbsp\;<a fr-original-style="-webkit-font-smoothing: subpixel-antialiased\; box-sizing: border-box\; margin: 0px\; padding: 0px\; border: 0px\; font-size: 16px\; font-family: inherit\; vertical-align: baseline\; color: inherit\; font-weight: 600\; transition: all 0.25s ease-out\; display: inline-block\;" href="mailto:ben@nctech.org" rel="noopener" style="-webkit-font-smoothing: subpixel-antialiased\; box-sizing: border-box\; margin: 0px\; padding: 0px\; border: 0px\; font-size: 16px\; font-family: inherit\; vertical-align: baseline\; color: inherit\; font-weight: 600\; transition: 0.25s ease-out\; display: inline-block\; user-select: auto\;" target="_blank">Ben Tramontana</a> with any questions.&nbsp\;</p></body></html>
LOCATION:6901 Play Golf Wy Raleigh NC 27607
UID:e.1456.1443551
SEQUENCE:3
DTSTAMP:20260424T234740Z
URL:https://ourmembers.nctech.org/events/Details/ytpn-spring-networking-hour-drive-shack-1709784?sourceTypeId=Hub
END:VEVENT
END:VCALENDAR
